BEGIN:VCALENDAR
VERSION:2.0
PRODID:-//De Traan - ECPv6.15.17//NONSGML v1.0//EN
CALSCALE:GREGORIAN
METHOD:PUBLISH
X-WR-CALNAME:De Traan
X-ORIGINAL-URL:https://www.detraan.nl
X-WR-CALDESC:Evenementen voor De Traan
REFRESH-INTERVAL;VALUE=DURATION:PT1H
X-Robots-Tag:noindex
X-PUBLISHED-TTL:PT1H
BEGIN:VTIMEZONE
TZID:Europe/Amsterdam
BEGIN:DAYLIGHT
TZOFFSETFROM:+0100
TZOFFSETTO:+0200
TZNAME:CEST
DTSTART:20250330T010000
END:DAYLIGHT
BEGIN:STANDARD
TZOFFSETFROM:+0200
TZOFFSETTO:+0100
TZNAME:CET
DTSTART:20251026T010000
END:STANDARD
BEGIN:DAYLIGHT
TZOFFSETFROM:+0100
TZOFFSETTO:+0200
TZNAME:CEST
DTSTART:20260329T010000
END:DAYLIGHT
BEGIN:STANDARD
TZOFFSETFROM:+0200
TZOFFSETTO:+0100
TZNAME:CET
DTSTART:20261025T010000
END:STANDARD
BEGIN:DAYLIGHT
TZOFFSETFROM:+0100
TZOFFSETTO:+0200
TZNAME:CEST
DTSTART:20270328T010000
END:DAYLIGHT
BEGIN:STANDARD
TZOFFSETFROM:+0200
TZOFFSETTO:+0100
TZNAME:CET
DTSTART:20271031T010000
END:STANDARD
END:VTIMEZONE
BEGIN:VEVENT
DTSTART;TZID=Europe/Amsterdam:20260312T143000
DTEND;TZID=Europe/Amsterdam:20260312T160000
DTSTAMP:20260421T163152
CREATED:20251001T132752Z
LAST-MODIFIED:20251001T134346Z
UID:10000131-1773325800-1773331200@www.detraan.nl
SUMMARY:Kleintje Traan in de Driemaster in Smilde (besloten)
DESCRIPTION:
URL:https://www.detraan.nl/optreden/kleintje-traan-in-de-driemaster-in-smilde-besloten/
LOCATION:INterzorg De Driemaster\, Pinses Beatrixstraat 9\, Smilde\, 9422 HH
CATEGORIES:Besloten
ATTACH;FMTTYPE=image/webp:https://www.detraan.nl/wp-content/uploads/2025/10/detraan-plaatsnaam_smilde-scaled.webp
END:VEVENT
END:VCALENDAR