BEGIN:VCALENDAR
VERSION:2.0
PRODID:-//De Traan - ECPv6.15.17//NONSGML v1.0//EN
CALSCALE:GREGORIAN
METHOD:PUBLISH
X-ORIGINAL-URL:https://www.detraan.nl
X-WR-CALDESC:Evenementen voor De Traan
REFRESH-INTERVAL;VALUE=DURATION:PT1H
X-Robots-Tag:noindex
X-PUBLISHED-TTL:PT1H
BEGIN:VTIMEZONE
TZID:Europe/Amsterdam
BEGIN:DAYLIGHT
TZOFFSETFROM:+0100
TZOFFSETTO:+0200
TZNAME:CEST
DTSTART:20220327T010000
END:DAYLIGHT
BEGIN:STANDARD
TZOFFSETFROM:+0200
TZOFFSETTO:+0100
TZNAME:CET
DTSTART:20221030T010000
END:STANDARD
BEGIN:DAYLIGHT
TZOFFSETFROM:+0100
TZOFFSETTO:+0200
TZNAME:CEST
DTSTART:20230326T010000
END:DAYLIGHT
BEGIN:STANDARD
TZOFFSETFROM:+0200
TZOFFSETTO:+0100
TZNAME:CET
DTSTART:20231029T010000
END:STANDARD
BEGIN:DAYLIGHT
TZOFFSETFROM:+0100
TZOFFSETTO:+0200
TZNAME:CEST
DTSTART:20240331T010000
END:DAYLIGHT
BEGIN:STANDARD
TZOFFSETFROM:+0200
TZOFFSETTO:+0100
TZNAME:CET
DTSTART:20241027T010000
END:STANDARD
BEGIN:DAYLIGHT
TZOFFSETFROM:+0100
TZOFFSETTO:+0200
TZNAME:CEST
DTSTART:20250330T010000
END:DAYLIGHT
BEGIN:STANDARD
TZOFFSETFROM:+0200
TZOFFSETTO:+0100
TZNAME:CET
DTSTART:20251026T010000
END:STANDARD
END:VTIMEZONE
BEGIN:VEVENT
DTSTART;TZID=Europe/Amsterdam:20240627T140000
DTEND;TZID=Europe/Amsterdam:20240627T170000
DTSTAMP:20260423T133001
CREATED:20230727T092418Z
LAST-MODIFIED:20240611T110843Z
UID:10000076-1719496800-1719507600@www.detraan.nl
SUMMARY:De Traan gratis in het verzorgingshuis (besloten)
DESCRIPTION:Data en locatie gratis optredens van De Traan\n27 juni 2024 Rolde / Interzorg
URL:https://www.detraan.nl/optreden/de-traan-treed-gratis-op-in-het-verzorgingshuis-besloten/2024-06-27/
LOCATION:Diverse verzorgingshuizen\, Nederland
CATEGORIES:Besloten
ATTACH;FMTTYPE=image/webp:https://www.detraan.nl/wp-content/uploads/2024/03/detraan-plaatsnaam_gratis-scaled-e1712225056881.webp
END:VEVENT
BEGIN:VEVENT
DTSTART;TZID=Europe/Amsterdam:20240516T140000
DTEND;TZID=Europe/Amsterdam:20240516T170000
DTSTAMP:20260423T133001
CREATED:20230727T092418Z
LAST-MODIFIED:20240611T110843Z
UID:10000073-1715868000-1715878800@www.detraan.nl
SUMMARY:De Traan gratis in het verzorgingshuis (besloten)
DESCRIPTION:Data en locatie gratis optredens van De Traan\n27 juni 2024 Rolde / Interzorg
URL:https://www.detraan.nl/optreden/de-traan-treed-gratis-op-in-het-verzorgingshuis-besloten/2024-05-16/
LOCATION:Diverse verzorgingshuizen\, Nederland
CATEGORIES:Besloten
ATTACH;FMTTYPE=image/webp:https://www.detraan.nl/wp-content/uploads/2024/03/detraan-plaatsnaam_gratis-scaled-e1712225056881.webp
END:VEVENT
BEGIN:VEVENT
DTSTART;TZID=Europe/Amsterdam:20240411T140000
DTEND;TZID=Europe/Amsterdam:20240411T170000
DTSTAMP:20260423T133001
CREATED:20230727T092418Z
LAST-MODIFIED:20240611T110843Z
UID:10000072-1712844000-1712854800@www.detraan.nl
SUMMARY:De Traan gratis in het verzorgingshuis (besloten)
DESCRIPTION:Data en locatie gratis optredens van De Traan\n27 juni 2024 Rolde / Interzorg
URL:https://www.detraan.nl/optreden/de-traan-treed-gratis-op-in-het-verzorgingshuis-besloten/2024-04-11/
LOCATION:Diverse verzorgingshuizen\, Nederland
CATEGORIES:Besloten
ATTACH;FMTTYPE=image/webp:https://www.detraan.nl/wp-content/uploads/2024/03/detraan-plaatsnaam_gratis-scaled-e1712225056881.webp
END:VEVENT
BEGIN:VEVENT
DTSTART;TZID=Europe/Amsterdam:20240321T140000
DTEND;TZID=Europe/Amsterdam:20240321T170000
DTSTAMP:20260423T133001
CREATED:20230727T092418Z
LAST-MODIFIED:20240611T110843Z
UID:10000071-1711029600-1711040400@www.detraan.nl
SUMMARY:De Traan gratis in het verzorgingshuis (besloten)
DESCRIPTION:Data en locatie gratis optredens van De Traan\n27 juni 2024 Rolde / Interzorg
URL:https://www.detraan.nl/optreden/de-traan-treed-gratis-op-in-het-verzorgingshuis-besloten/2024-03-21/
LOCATION:Diverse verzorgingshuizen\, Nederland
CATEGORIES:Besloten
ATTACH;FMTTYPE=image/webp:https://www.detraan.nl/wp-content/uploads/2024/03/detraan-plaatsnaam_gratis-scaled-e1712225056881.webp
END:VEVENT
BEGIN:VEVENT
DTSTART;TZID=Europe/Amsterdam:20240307T140000
DTEND;TZID=Europe/Amsterdam:20240307T170000
DTSTAMP:20260423T133001
CREATED:20230727T092418Z
LAST-MODIFIED:20240611T110843Z
UID:10000070-1709820000-1709830800@www.detraan.nl
SUMMARY:De Traan gratis in het verzorgingshuis (besloten)
DESCRIPTION:Data en locatie gratis optredens van De Traan\n27 juni 2024 Rolde / Interzorg
URL:https://www.detraan.nl/optreden/de-traan-treed-gratis-op-in-het-verzorgingshuis-besloten/2024-03-07/
LOCATION:Diverse verzorgingshuizen\, Nederland
CATEGORIES:Besloten
ATTACH;FMTTYPE=image/webp:https://www.detraan.nl/wp-content/uploads/2024/03/detraan-plaatsnaam_gratis-scaled-e1712225056881.webp
END:VEVENT
BEGIN:VEVENT
DTSTART;TZID=Europe/Amsterdam:20240222T140000
DTEND;TZID=Europe/Amsterdam:20240222T170000
DTSTAMP:20260423T133001
CREATED:20230727T092418Z
LAST-MODIFIED:20240611T110843Z
UID:10000069-1708610400-1708621200@www.detraan.nl
SUMMARY:De Traan gratis in het verzorgingshuis (besloten)
DESCRIPTION:Data en locatie gratis optredens van De Traan\n27 juni 2024 Rolde / Interzorg
URL:https://www.detraan.nl/optreden/de-traan-treed-gratis-op-in-het-verzorgingshuis-besloten/2024-02-22/
LOCATION:Diverse verzorgingshuizen\, Nederland
CATEGORIES:Besloten
ATTACH;FMTTYPE=image/webp:https://www.detraan.nl/wp-content/uploads/2024/03/detraan-plaatsnaam_gratis-scaled-e1712225056881.webp
END:VEVENT
BEGIN:VEVENT
DTSTART;TZID=Europe/Amsterdam:20240208T140000
DTEND;TZID=Europe/Amsterdam:20240208T170000
DTSTAMP:20260423T133001
CREATED:20230727T092418Z
LAST-MODIFIED:20240611T110843Z
UID:10000068-1707400800-1707411600@www.detraan.nl
SUMMARY:De Traan gratis in het verzorgingshuis (besloten)
DESCRIPTION:Data en locatie gratis optredens van De Traan\n27 juni 2024 Rolde / Interzorg
URL:https://www.detraan.nl/optreden/de-traan-treed-gratis-op-in-het-verzorgingshuis-besloten/2024-02-08/
LOCATION:Diverse verzorgingshuizen\, Nederland
CATEGORIES:Besloten
ATTACH;FMTTYPE=image/webp:https://www.detraan.nl/wp-content/uploads/2024/03/detraan-plaatsnaam_gratis-scaled-e1712225056881.webp
END:VEVENT
BEGIN:VEVENT
DTSTART;TZID=Europe/Amsterdam:20240111T140000
DTEND;TZID=Europe/Amsterdam:20240111T170000
DTSTAMP:20260423T133001
CREATED:20230727T092418Z
LAST-MODIFIED:20240611T110843Z
UID:10000067-1704981600-1704992400@www.detraan.nl
SUMMARY:De Traan gratis in het verzorgingshuis (besloten)
DESCRIPTION:Data en locatie gratis optredens van De Traan\n27 juni 2024 Rolde / Interzorg
URL:https://www.detraan.nl/optreden/de-traan-treed-gratis-op-in-het-verzorgingshuis-besloten/2024-01-11/
LOCATION:Diverse verzorgingshuizen\, Nederland
CATEGORIES:Besloten
ATTACH;FMTTYPE=image/webp:https://www.detraan.nl/wp-content/uploads/2024/03/detraan-plaatsnaam_gratis-scaled-e1712225056881.webp
END:VEVENT
BEGIN:VEVENT
DTSTART;TZID=Europe/Amsterdam:20231116T140000
DTEND;TZID=Europe/Amsterdam:20231116T170000
DTSTAMP:20260423T133001
CREATED:20230727T092418Z
LAST-MODIFIED:20240611T110843Z
UID:10000066-1700143200-1700154000@www.detraan.nl
SUMMARY:De Traan gratis in het verzorgingshuis (besloten)
DESCRIPTION:Data en locatie gratis optredens van De Traan\n27 juni 2024 Rolde / Interzorg
URL:https://www.detraan.nl/optreden/de-traan-treed-gratis-op-in-het-verzorgingshuis-besloten/2023-11-16/
LOCATION:Diverse verzorgingshuizen\, Nederland
CATEGORIES:Besloten
ATTACH;FMTTYPE=image/webp:https://www.detraan.nl/wp-content/uploads/2024/03/detraan-plaatsnaam_gratis-scaled-e1712225056881.webp
END:VEVENT
BEGIN:VEVENT
DTSTART;TZID=Europe/Amsterdam:20231019T140000
DTEND;TZID=Europe/Amsterdam:20231019T170000
DTSTAMP:20260423T133001
CREATED:20230727T092418Z
LAST-MODIFIED:20240611T110843Z
UID:10000065-1697724000-1697734800@www.detraan.nl
SUMMARY:De Traan gratis in het verzorgingshuis (besloten)
DESCRIPTION:Data en locatie gratis optredens van De Traan\n27 juni 2024 Rolde / Interzorg
URL:https://www.detraan.nl/optreden/de-traan-treed-gratis-op-in-het-verzorgingshuis-besloten/2023-10-19/
LOCATION:Diverse verzorgingshuizen\, Nederland
CATEGORIES:Besloten
ATTACH;FMTTYPE=image/webp:https://www.detraan.nl/wp-content/uploads/2024/03/detraan-plaatsnaam_gratis-scaled-e1712225056881.webp
END:VEVENT
BEGIN:VEVENT
DTSTART;TZID=Europe/Amsterdam:20231005T140000
DTEND;TZID=Europe/Amsterdam:20231005T170000
DTSTAMP:20260423T133001
CREATED:20230727T092418Z
LAST-MODIFIED:20240611T110843Z
UID:10000064-1696514400-1696525200@www.detraan.nl
SUMMARY:De Traan gratis in het verzorgingshuis (besloten)
DESCRIPTION:Data en locatie gratis optredens van De Traan\n27 juni 2024 Rolde / Interzorg
URL:https://www.detraan.nl/optreden/de-traan-treed-gratis-op-in-het-verzorgingshuis-besloten/2023-10-05/
LOCATION:Diverse verzorgingshuizen\, Nederland
CATEGORIES:Besloten
ATTACH;FMTTYPE=image/webp:https://www.detraan.nl/wp-content/uploads/2024/03/detraan-plaatsnaam_gratis-scaled-e1712225056881.webp
END:VEVENT
BEGIN:VEVENT
DTSTART;TZID=Europe/Amsterdam:20230921T140000
DTEND;TZID=Europe/Amsterdam:20230921T170000
DTSTAMP:20260423T133001
CREATED:20230727T092418Z
LAST-MODIFIED:20240611T110843Z
UID:10000063-1695304800-1695315600@www.detraan.nl
SUMMARY:De Traan gratis in het verzorgingshuis (besloten)
DESCRIPTION:Data en locatie gratis optredens van De Traan\n27 juni 2024 Rolde / Interzorg
URL:https://www.detraan.nl/optreden/de-traan-treed-gratis-op-in-het-verzorgingshuis-besloten/2023-09-21/
LOCATION:Diverse verzorgingshuizen\, Nederland
CATEGORIES:Besloten
ATTACH;FMTTYPE=image/webp:https://www.detraan.nl/wp-content/uploads/2024/03/detraan-plaatsnaam_gratis-scaled-e1712225056881.webp
END:VEVENT
END:VCALENDAR