BEGIN:VCALENDAR
VERSION:2.0
PRODID:-//De Traan - ECPv6.15.17//NONSGML v1.0//EN
CALSCALE:GREGORIAN
METHOD:PUBLISH
X-WR-CALNAME:De Traan
X-ORIGINAL-URL:https://www.detraan.nl
X-WR-CALDESC:Evenementen voor De Traan
REFRESH-INTERVAL;VALUE=DURATION:PT1H
X-Robots-Tag:noindex
X-PUBLISHED-TTL:PT1H
BEGIN:VTIMEZONE
TZID:Europe/Amsterdam
BEGIN:DAYLIGHT
TZOFFSETFROM:+0100
TZOFFSETTO:+0200
TZNAME:CEST
DTSTART:20250330T010000
END:DAYLIGHT
BEGIN:STANDARD
TZOFFSETFROM:+0200
TZOFFSETTO:+0100
TZNAME:CET
DTSTART:20251026T010000
END:STANDARD
BEGIN:DAYLIGHT
TZOFFSETFROM:+0100
TZOFFSETTO:+0200
TZNAME:CEST
DTSTART:20260329T010000
END:DAYLIGHT
BEGIN:STANDARD
TZOFFSETFROM:+0200
TZOFFSETTO:+0100
TZNAME:CET
DTSTART:20261025T010000
END:STANDARD
BEGIN:DAYLIGHT
TZOFFSETFROM:+0100
TZOFFSETTO:+0200
TZNAME:CEST
DTSTART:20270328T010000
END:DAYLIGHT
BEGIN:STANDARD
TZOFFSETFROM:+0200
TZOFFSETTO:+0100
TZNAME:CET
DTSTART:20271031T010000
END:STANDARD
END:VTIMEZONE
BEGIN:VEVENT
DTSTART;TZID=Europe/Amsterdam:20261008T143000
DTEND;TZID=Europe/Amsterdam:20261008T160000
DTSTAMP:20260421T134017
CREATED:20251112T002720Z
LAST-MODIFIED:20251112T002720Z
UID:10000137-1791469800-1791475200@www.detraan.nl
SUMMARY:Kleintje Traan bij de Bloemhof in Ten Boer (besloten)
DESCRIPTION:
URL:https://www.detraan.nl/optreden/kleintje-traan-bij-de-bloemhof-in-ten-boer-besloten/
LOCATION:De Bloemhof\, Ten Boer
CATEGORIES:Besloten
END:VEVENT
END:VCALENDAR