BEGIN:VCALENDAR
VERSION:2.0
PRODID:-//De Traan - ECPv6.15.17//NONSGML v1.0//EN
CALSCALE:GREGORIAN
METHOD:PUBLISH
X-ORIGINAL-URL:https://www.detraan.nl
X-WR-CALDESC:Evenementen voor De Traan
REFRESH-INTERVAL;VALUE=DURATION:PT1H
X-Robots-Tag:noindex
X-PUBLISHED-TTL:PT1H
BEGIN:VTIMEZONE
TZID:Europe/Amsterdam
BEGIN:DAYLIGHT
TZOFFSETFROM:+0100
TZOFFSETTO:+0200
TZNAME:CEST
DTSTART:20240331T010000
END:DAYLIGHT
BEGIN:STANDARD
TZOFFSETFROM:+0200
TZOFFSETTO:+0100
TZNAME:CET
DTSTART:20241027T010000
END:STANDARD
BEGIN:DAYLIGHT
TZOFFSETFROM:+0100
TZOFFSETTO:+0200
TZNAME:CEST
DTSTART:20250330T010000
END:DAYLIGHT
BEGIN:STANDARD
TZOFFSETFROM:+0200
TZOFFSETTO:+0100
TZNAME:CET
DTSTART:20251026T010000
END:STANDARD
BEGIN:DAYLIGHT
TZOFFSETFROM:+0100
TZOFFSETTO:+0200
TZNAME:CEST
DTSTART:20260329T010000
END:DAYLIGHT
BEGIN:STANDARD
TZOFFSETFROM:+0200
TZOFFSETTO:+0100
TZNAME:CET
DTSTART:20261025T010000
END:STANDARD
END:VTIMEZONE
BEGIN:VEVENT
DTSTART;TZID=Europe/Amsterdam:20251009T143000
DTEND;TZID=Europe/Amsterdam:20251009T160000
DTSTAMP:20260419T143659
CREATED:20250123T135507Z
LAST-MODIFIED:20250227T052052Z
UID:10000116-1760020200-1760025600@www.detraan.nl
SUMMARY:Kleintje Traan bij Ceresstaete in Assen (besloten)
DESCRIPTION:Een besloten optreden bij Ceresstaete van Stichting Icare in Assen.
URL:https://www.detraan.nl/optreden/kleintje-traan-bij-ceresstaete-in-assen/
LOCATION:Ceresstaete\, Ceresstraat 11a\, Assen\, 9401 DP\, Nederland
CATEGORIES:Besloten
ATTACH;FMTTYPE=image/webp:https://www.detraan.nl/wp-content/uploads/2024/09/detraan-plaatsnaam_assen-scaled-e1726204770641.webp
END:VEVENT
END:VCALENDAR