BEGIN:VCALENDAR
VERSION:2.0
PRODID:-//De Traan - ECPv6.15.17//NONSGML v1.0//EN
CALSCALE:GREGORIAN
METHOD:PUBLISH
X-ORIGINAL-URL:https://www.detraan.nl
X-WR-CALDESC:Evenementen voor De Traan
REFRESH-INTERVAL;VALUE=DURATION:PT1H
X-Robots-Tag:noindex
X-PUBLISHED-TTL:PT1H
BEGIN:VTIMEZONE
TZID:Europe/Amsterdam
BEGIN:DAYLIGHT
TZOFFSETFROM:+0100
TZOFFSETTO:+0200
TZNAME:CEST
DTSTART:20250330T010000
END:DAYLIGHT
BEGIN:STANDARD
TZOFFSETFROM:+0200
TZOFFSETTO:+0100
TZNAME:CET
DTSTART:20251026T010000
END:STANDARD
BEGIN:DAYLIGHT
TZOFFSETFROM:+0100
TZOFFSETTO:+0200
TZNAME:CEST
DTSTART:20260329T010000
END:DAYLIGHT
BEGIN:STANDARD
TZOFFSETFROM:+0200
TZOFFSETTO:+0100
TZNAME:CET
DTSTART:20261025T010000
END:STANDARD
BEGIN:DAYLIGHT
TZOFFSETFROM:+0100
TZOFFSETTO:+0200
TZNAME:CEST
DTSTART:20270328T010000
END:DAYLIGHT
BEGIN:STANDARD
TZOFFSETFROM:+0200
TZOFFSETTO:+0100
TZNAME:CET
DTSTART:20271031T010000
END:STANDARD
END:VTIMEZONE
BEGIN:VEVENT
DTSTART;TZID=Europe/Amsterdam:20260506T140000
DTEND;TZID=Europe/Amsterdam:20260506T160000
DTSTAMP:20260421T122927
CREATED:20251001T133203Z
LAST-MODIFIED:20251110T114241Z
UID:10000133-1778076000-1778083200@www.detraan.nl
SUMMARY:De Traan bij 95 jaar Vrouwen van Nu Drenthe (besloten)
DESCRIPTION:
URL:https://www.detraan.nl/optreden/de-traan-bij-95-jaar-vrouwen-van-nu-drenthe-besloten/
LOCATION:Bonte Wever\, Stadsbroek 17\, Assen\, 9405 BK
CATEGORIES:Besloten
ATTACH;FMTTYPE=image/webp:https://www.detraan.nl/wp-content/uploads/2024/09/detraan-plaatsnaam_assen-scaled-e1726204770641.webp
END:VEVENT
END:VCALENDAR